BEGIN:VCALENDAR
VERSION:2.0
PRODID:-//pretix//pretix.eu//
BEGIN:VEVENT
UID:pretix-Hatch-26-0@tickets.hatchconference.com
DTSTART;VALUE=DATE:20260916
DTEND;VALUE=DATE:20260917
DESCRIPTION:Tickets: https://tickets.hatchconference.com/\nOrganizer: Hatch
  Community Events UG
DTSTAMP:20260420T081515Z
LOCATION:Silent Green Kulturquartier\,\, Gerichstr 35\,13347 Berlin\, Germa
 ny
SUMMARY:Hatch Conference 2026
END:VEVENT
END:VCALENDAR
